BEGIN:VCALENDAR
VERSION:2.0
PRODID:-//jEvents 2.0 for Joomla//EN
CALSCALE:GREGORIAN
METHOD:PUBLISH
BEGIN:VTIMEZONE
TZID:Asia/Kuala_Lumpur
BEGIN:STANDARD
DTSTART:20190916T080000
RDATE:20380119T111407
TZOFFSETFROM:+0800
TZOFFSETTO:+0800
TZNAME:Asia/Kuala_Lumpur +08
END:STANDARD
END:VTIMEZONE
BEGIN:VEVENT
UID:956e21bef695358186f947e564022338
CATEGORIES:Oil & Gas
SUMMARY:Offshore Decommissioning Congress (ODC) 2020
LOCATION:Hilton Rotterdam, Rotterdam, The Netherlands
DESCRIPTION;ENCODING=QUOTED-PRINTABLE:\n\n\nThe Offshore Decommissioning Congress (ODC) is the premiere annual ga
 thering for stakeholders in the offshore decommissioning sector. More than 
 one hundred professionals attend the event each year to learn about new tec
 hnologies for reducing costs and improving the safety of decommissioning op
 erations, to hear the latest case studies from decommissioning experts and 
 to receive updates on regulatory changes in Denmark, the UK, Norway and oth
 er key regions.\nTaking place on 16- 18 September, ODC 2020 also features t
 he Decommissioning Offshore Wind Summit, which will prepare the ground for 
 the next wave of decommissioning activity, as well as the Well Plugging & A
 bandonment Workshop, exploring the latest developments in P&A solutions.\nM
 udrock Media readers will receive a 20% discount when they book on for the 
 event. To redeem your discount, quote the promo code FKT3664MUDROCK at chec
 kout or book using this link: http://bit.ly/2VCcnqx\n
X-EXTRAINFO:http://bit.ly/2VENUkk 
DTSTAMP:20260421T055530Z
DTSTART;TZID=Asia/Kuala_Lumpur:20200916T080000
DTEND;TZID=Asia/Kuala_Lumpur:20200918T170000
SEQUENCE:0
TRANSP:OPAQUE
END:VEVENT
END:VCALENDAR