BEGIN:VCALENDAR
VERSION:2.0
PRODID:-//jEvents 2.0 for Joomla//EN
CALSCALE:GREGORIAN
METHOD:PUBLISH
BEGIN:VTIMEZONE
TZID:Asia/Kuala_Lumpur
BEGIN:STANDARD
DTSTART:20140420T000000
RDATE:20380119T111407
TZOFFSETFROM:+0800
TZOFFSETTO:+0800
TZNAME:Asia/Kuala_Lumpur +08
END:STANDARD
END:VTIMEZONE
BEGIN:VEVENT
UID:0403728d1451e20eee3182c0e75def42
CATEGORIES:Maritime 
SUMMARY:SEA ASIA 2015
LOCATION:Marina Bay Sands-MBS, Singapore
DESCRIPTION;ENCODING=QUOTED-PRINTABLE:\n\n Since its launch in 2007, Sea Asia has firmly established its place in
  the marketplace as the platform for industry to do business, network and u
 nveil new products and services in the Asia Pacific region.A record number 
 of attendees in 2013 further reinforced the exhibition and conference as th
 e region’s leading shipping and maritime event, paving the way for another 
 edition in 2015.\n\n\nHeld in conjunction with Singapore Maritime Week, Sea
  Asia 2015 is expected to attract more than 14,000 participants including C
 EOs, presidents, decision-makers and maritime professionals from diverse se
 ctors of the global shipping industry.  It is one of the most anticipated m
 aritime industry events in Asia, offering the best business networking plat
 forms in shipping and most importantly, am acknowledged platform to strike 
 deals.......find out more\n
X-EXTRAINFO:http://www.sea-asia.com/
DTSTAMP:20260421T185754Z
DTSTART;TZID=Asia/Kuala_Lumpur;VALUE=DATE:20150421
DTEND;TZID=Asia/Kuala_Lumpur;VALUE=DATE:20150424
SEQUENCE:0
TRANSP:OPAQUE
END:VEVENT
END:VCALENDAR