BEGIN:VCALENDAR
VERSION:2.0
PRODID:-//jEvents 2.0 for Joomla//EN
CALSCALE:GREGORIAN
METHOD:PUBLISH
BEGIN:VTIMEZONE
TZID:Asia/Kuala_Lumpur
BEGIN:STANDARD
DTSTART:20191130T080000
RDATE:20380119T111407
TZOFFSETFROM:+0800
TZOFFSETTO:+0800
TZNAME:Asia/Kuala_Lumpur +08
END:STANDARD
END:VTIMEZONE
BEGIN:VEVENT
UID:337512fb47e5a2f65236b94a4a28974c
CATEGORIES:Oil & Gas
SUMMARY:Production Sharing Contracts & International Petroleum Fiscal Systems
DESCRIPTION;ENCODING=QUOTED-PRINTABLE:\n\n\n\n\nOrganising Company : Conference Connection Pte Ltd\nEvent Name : 
 Production Sharing Contracts & International Petroleum Fiscal Systems\n\n\n
  \n\n\nHouston Venue\nStart date of the event : 30 November 2020\nEnd date 
 of the event : 4 December 2020\nEvent Country : USA\nEvent City : Houston, 
 Texas\nEvent Venue : To be advised\n\n\n \n
CONTACT:COURSES
DTSTAMP:20260421T055759Z
DTSTART;TZID=Asia/Kuala_Lumpur:20201130T080000
DTEND;TZID=Asia/Kuala_Lumpur:20201204T170000
SEQUENCE:0
TRANSP:OPAQUE
END:VEVENT
END:VCALENDAR