BEGIN:VCALENDAR
VERSION:2.0
PRODID:-//jEvents 2.0 for Joomla//EN
CALSCALE:GREGORIAN
METHOD:PUBLISH
BEGIN:VTIMEZONE
TZID:Asia/Kuala_Lumpur
BEGIN:STANDARD
DTSTART:20190901T080000
RDATE:20380119T111407
TZOFFSETFROM:+0800
TZOFFSETTO:+0800
TZNAME:Asia/Kuala_Lumpur +08
END:STANDARD
END:VTIMEZONE
BEGIN:VEVENT
UID:5c1bf3f27dd815a5314816b625af1e8c
CATEGORIES:Courses
SUMMARY:Production Sharing Contracts & International Petroleum Fiscal Systems
DESCRIPTION;ENCODING=QUOTED-PRINTABLE:\n\nOrganising Company : Conference Connection Pte Ltd\n\n\nEvent Name : Pr
 oduction Sharing  Contracts\nStart date of the event : 1 September 2020\nEn
 d date of the event : 3 September 2020\nEvent Country : Virtual\nEvent City
  :  NA\nEvent Venue : NA (Virtual)\nEvent URL :  https://www.cconnection.or
 g/events/psc_virtual/\nContact person's name : Shaman Mulchand\nContact per
 son's email : This email address is being protected from spambots. You need
  JavaScript enabled to view it.
 //
 \nContact No :  65-63380064\n\n\n \n
CONTACT:Virtual Course
DTSTAMP:20260421T060233Z
DTSTART;TZID=Asia/Kuala_Lumpur:20200901T080000
DTEND;TZID=Asia/Kuala_Lumpur:20200903T170000
SEQUENCE:0
TRANSP:OPAQUE
END:VEVENT
END:VCALENDAR