BEGIN:VCALENDAR
VERSION:2.0
PRODID:-//jEvents 2.0 for Joomla//EN
CALSCALE:GREGORIAN
METHOD:PUBLISH
BEGIN:VTIMEZONE
TZID:Asia/Kuala_Lumpur
BEGIN:STANDARD
DTSTART:20190608T080000
RDATE:20380119T111407
TZOFFSETFROM:+0800
TZOFFSETTO:+0800
TZNAME:Asia/Kuala_Lumpur +08
END:STANDARD
END:VTIMEZONE
BEGIN:VEVENT
UID:00dca8f9679ef12ae77076a59218e9fd
CATEGORIES:Oil & Gas
SUMMARY:Production Sharing Contracts & International Petroleum Fiscal Systems
DESCRIPTION;ENCODING=QUOTED-PRINTABLE:\n\n\n\n\nOrganising Company : Conference Connection Pte Ltd\nEvent Name : 
 Production Sharing Contracts & International Petroleum Fiscal Systems\n\n\n
  \n\n\nJakarta Venue\n\n\nStart date of the event : 8 June 2020\nEnd date o
 f the event : 10 June 2020\nEvent Country : Indonesia\nEvent City : Jakarta
 \nEvent Venue : To be advised\n
CONTACT:COURSES
DTSTAMP:20260421T055520Z
DTSTART;TZID=Asia/Kuala_Lumpur:20200608T080000
DTEND;TZID=Asia/Kuala_Lumpur:20200610T170000
SEQUENCE:0
TRANSP:OPAQUE
END:VEVENT
END:VCALENDAR