BEGIN:VCALENDAR
VERSION:2.0
PRODID:-//jEvents 2.0 for Joomla//EN
CALSCALE:GREGORIAN
METHOD:PUBLISH
BEGIN:VTIMEZONE
TZID:Asia/Kuala_Lumpur
BEGIN:STANDARD
DTSTART:20190901T080000
RDATE:20380119T111407
TZOFFSETFROM:+0800
TZOFFSETTO:+0800
TZNAME:Asia/Kuala_Lumpur +08
END:STANDARD
END:VTIMEZONE
BEGIN:VEVENT
UID:dc35aa20cecaafa083424e47e686e257
CATEGORIES:Oil & Gas
SUMMARY:MECOC 2020 : Middle East Metallurgy Corrosion & Coatings Conference & Showcase
LOCATION:Dubai, UAE
DESCRIPTION;ENCODING=QUOTED-PRINTABLE:\n\n\n
X-EXTRAINFO:https://mecocmiddleeast.com/
DTSTAMP:20260421T055643Z
DTSTART;TZID=Asia/Kuala_Lumpur:20200901T080000
DTEND;TZID=Asia/Kuala_Lumpur:20200903T170000
SEQUENCE:0
TRANSP:OPAQUE
END:VEVENT
END:VCALENDAR