BEGIN:VCALENDAR
VERSION:2.0
PRODID:-//jEvents 2.0 for Joomla//EN
CALSCALE:GREGORIAN
METHOD:PUBLISH
BEGIN:VTIMEZONE
TZID:Asia/Kuala_Lumpur
BEGIN:STANDARD
DTSTART:20190302T080000
RDATE:20380119T111407
TZOFFSETFROM:+0800
TZOFFSETTO:+0800
TZNAME:Asia/Kuala_Lumpur +08
END:STANDARD
END:VTIMEZONE
BEGIN:VEVENT
UID:75c28150fad78dea9fa1f6e491f3cb84
CATEGORIES:Oil & Gas
SUMMARY:Emergency Response & Fire Leadership Global Summit (ERFL 2020)
LOCATION:King Abdullah Cultural Center, Jubail, KSA
DESCRIPTION;ENCODING=QUOTED-PRINTABLE:\n\nEmergency Response & Fire Leadership Global Summit (ERFL 2020) is an in
 ternational platform that will address research and innovations in the fiel
 d of emergency response, crises management, fire and safety. The conference
  and exhibition will bring together a distinguished gathering of participan
 ts from all across the globe, sharing their experties about the current and
  future challenges in the light of emergency response management and fire l
 eadership.\n
X-EXTRAINFO:http://erflglobalsummit.com/index.php
DTSTAMP:20260421T055520Z
DTSTART;TZID=Asia/Kuala_Lumpur:20200302T080000
DTEND;TZID=Asia/Kuala_Lumpur:20200305T170000
SEQUENCE:0
TRANSP:OPAQUE
END:VEVENT
END:VCALENDAR