BEGIN:VCALENDAR
VERSION:2.0
PRODID:-//jEvents 2.0 for Joomla//EN
CALSCALE:GREGORIAN
METHOD:PUBLISH
BEGIN:VTIMEZONE
TZID:Asia/Kuala_Lumpur
BEGIN:STANDARD
DTSTART:20191202T080000
RDATE:20380119T111407
TZOFFSETFROM:+0800
TZOFFSETTO:+0800
TZNAME:Asia/Kuala_Lumpur +08
END:STANDARD
END:VTIMEZONE
BEGIN:VEVENT
UID:cb0cf06bafcc0fe460f9b39910e7f9cb
CATEGORIES:Oil & Gas
SUMMARY:LNG Latin America 2020
LOCATION:Buenos Aires, Argentina
DESCRIPTION;ENCODING=QUOTED-PRINTABLE:\n\n250+ CEOs, General and Technical Directors of major LNG regasification 
 and LNG production plants from ALL over Latin America – Argentina, Mexico, 
 Chile, Brazil, Peru, Colombia, Panama, Trinidad and Tobago, etc.; as well a
 s government entities, oil and gas companies, EPCs, global LNG experts, wor
 ld-known equipment and service providing companies will gather together in 
 Buenos Aires, Argentina.\n
X-EXTRAINFO:https://bit.ly/37TVHgX 
DTSTAMP:20260421T060310Z
DTSTART;TZID=Asia/Kuala_Lumpur:20201202T080000
DTEND;TZID=Asia/Kuala_Lumpur:20201203T170000
SEQUENCE:0
TRANSP:OPAQUE
END:VEVENT
END:VCALENDAR