BEGIN:VCALENDAR
VERSION:2.0
PRODID:-//jEvents 2.0 for Joomla//EN
CALSCALE:GREGORIAN
METHOD:PUBLISH
BEGIN:VTIMEZONE
TZID:Asia/Kuala_Lumpur
BEGIN:STANDARD
DTSTART:20190304T080000
RDATE:20380119T111407
TZOFFSETFROM:+0800
TZOFFSETTO:+0800
TZNAME:Asia/Kuala_Lumpur +08
END:STANDARD
END:VTIMEZONE
BEGIN:VEVENT
UID:ec6e8dc647d58c32d59f123f2867a8ff
CATEGORIES:Oil & Gas
SUMMARY:China LNG & Gas International Exhibition & Summit 2020
LOCATION:NECC - Shanghai, China
DESCRIPTION;ENCODING=QUOTED-PRINTABLE:
X-EXTRAINFO:https://www.chinalnggas.com/
DTSTAMP:20260421T060504Z
DTSTART;TZID=Asia/Kuala_Lumpur:20200304T080000
DTEND;TZID=Asia/Kuala_Lumpur:20200306T170000
SEQUENCE:0
TRANSP:OPAQUE
END:VEVENT
END:VCALENDAR