BEGIN:VCALENDAR
VERSION:2.0
PRODID:-//jEvents 2.0 for Joomla//EN
CALSCALE:GREGORIAN
METHOD:PUBLISH
BEGIN:VTIMEZONE
TZID:Asia/Kuala_Lumpur
BEGIN:STANDARD
DTSTART:20210522T080000
RDATE:20380119T111407
TZOFFSETFROM:+0800
TZOFFSETTO:+0800
TZNAME:Asia/Kuala_Lumpur +08
END:STANDARD
END:VTIMEZONE
BEGIN:VEVENT
UID:7669c3ecf57882756a6d848405e3f196
CATEGORIES:Oil & Gas
SUMMARY:28th World Gas Conference (WGC 2022)
LOCATION:EXCO Convention Centre, Daegu, Korea
DESCRIPTION;ENCODING=QUOTED-PRINTABLE:The World Gas Conference, conducted by the International Gas Union (IGU) si
 nce 1931, is the world’s largest and most important global gas industry eve
 nt where thousands of industrial and political leaders, gas executives, spe
 cialists and exhibitors gather together every three years.\n\n\n \nThe 28th
  World Gas Conference (WGC2022) takes place in Daegu, the energy city of Ko
 rea and home to the headquarters of KOGAS, in May 2022. Hosted by the Korea
  Gas Union, the event's core aim is to promote the role of natural gas in a
  sustainable energy future. WGC2022 is underpinned by a wealth of supportin
 g organisations and corporations in Korea including host partner KOGAS, the
  Central and Local Government, and a National Organizing Committee made up 
 of 50 global institutions. From 23-27 May 2022 Daegu, Korea will host 12,00
 0+ attendees and 350 exhibitors representing 500 companies from more than 9
 0 countries. \n\n\n \nFor more information, please visit https://wgc2022.or
 g/   \nFor the WGC2022 and event information, please visit: https://wgc2022
 .org/marketing-collateral/\nDownload the brochure: http://wgc2022.org/broch
 ure-download    \n\n\n \n
CONTACT:FREE MAP DISTRIBUTION
X-EXTRAINFO:https://wgc2022.org/
DTSTAMP:20260421T034452Z
DTSTART;TZID=Asia/Kuala_Lumpur:20220523T080000
DTEND;TZID=Asia/Kuala_Lumpur:20220527T170000
SEQUENCE:0
TRANSP:OPAQUE
END:VEVENT
END:VCALENDAR