BEGIN:VCALENDAR
VERSION:2.0
PRODID:-//jEvents 2.0 for Joomla//EN
CALSCALE:GREGORIAN
METHOD:PUBLISH
BEGIN:VTIMEZONE
TZID:Asia/Kuala_Lumpur
BEGIN:STANDARD
DTSTART:20191109T080000
RDATE:20380119T111407
TZOFFSETFROM:+0800
TZOFFSETTO:+0800
TZNAME:Asia/Kuala_Lumpur +08
END:STANDARD
END:VTIMEZONE
BEGIN:VEVENT
UID:d34f21b9eb15f1c0dd8b4554076d22c9
CATEGORIES:Oil & Gas
SUMMARY:ADIPEC 2020
LOCATION:Abu Dhabi, UAE
DESCRIPTION;ENCODING=QUOTED-PRINTABLE:\n\n\n
CONTACT:FREE MAP DISTRIBUTION
X-EXTRAINFO:https://www.adipec.com/
DTSTAMP:20260421T054643Z
DTSTART;TZID=Asia/Kuala_Lumpur:20201109T080000
DTEND;TZID=Asia/Kuala_Lumpur:20201112T170000
SEQUENCE:0
TRANSP:OPAQUE
END:VEVENT
END:VCALENDAR