BEGIN:VCALENDAR
VERSION:2.0
PRODID:-//jEvents 2.0 for Joomla//EN
CALSCALE:GREGORIAN
METHOD:PUBLISH
BEGIN:VTIMEZONE
TZID:Asia/Kuala_Lumpur
BEGIN:STANDARD
DTSTART:20200629T090000
RDATE:20380119T111407
TZOFFSETFROM:+0800
TZOFFSETTO:+0800
TZNAME:Asia/Kuala_Lumpur +08
END:STANDARD
END:VTIMEZONE
BEGIN:VEVENT
UID:25c019e5aa60677c77b90f15a150b986
CATEGORIES:Maritime 
SUMMARY:INMEX Vietnam 2021
LOCATION:Ba Ria - Vung Tau Sports Arena Vung Tau City, Vietnam
DESCRIPTION;ENCODING=QUOTED-PRINTABLE:\n\nINMEX Vietnam is the most comprehensive international business platform
  encompassing all aspects of shipbuilding, ship repairs, shipping, maritime
  engineering, offshore engineering & technology, dredging equipment and por
 ts & logistics.\nIt is an exceptional meeting point for the global maritime
  community in Vietnam, a region where the industry remains buoyant and stro
 ng growth is set to occur. INMEX Vietnam will bring together leading indust
 ry players.\nGiven the current surge in offshore drilling and exploration a
 ctivities in and around Vietnam, INMEX Vietnam 2021 is poised to attract pr
 oduction and exploration managers, engineers and consultants involved in ma
 ritime, offshore engineering, dredging and drilling.https://www.maritimesho
 ws.com/vietnam/en/home.html\n
CONTACT:FREE MAP DISTRIBUTION
X-EXTRAINFO:https://www.maritimeshows.com/vietnam/en/home.html
DTSTAMP:20260421T050612Z
DTSTART;TZID=Asia/Kuala_Lumpur:20210630T090000
DTEND;TZID=Asia/Kuala_Lumpur:20210702T170000
SEQUENCE:0
TRANSP:OPAQUE
END:VEVENT
END:VCALENDAR