BEGIN:VCALENDAR
VERSION:2.0
PRODID:-//jEvents 2.0 for Joomla//EN
CALSCALE:GREGORIAN
METHOD:PUBLISH
BEGIN:VTIMEZONE
TZID:Asia/Kuala_Lumpur
BEGIN:STANDARD
DTSTART:20191111T080000
RDATE:20380119T111407
TZOFFSETFROM:+0800
TZOFFSETTO:+0800
TZNAME:Asia/Kuala_Lumpur +08
END:STANDARD
END:VTIMEZONE
BEGIN:VEVENT
UID:261bb25377f47b5b8ad33758016f8778
CATEGORIES:Energy
SUMMARY:Indo EBTKE ConEx 2020
LOCATION:Jakarta
DESCRIPTION;ENCODING=QUOTED-PRINTABLE:
DTSTAMP:20260421T082612Z
DTSTART;TZID=Asia/Kuala_Lumpur:20201111T080000
DTEND;TZID=Asia/Kuala_Lumpur:20201113T170000
SEQUENCE:0
TRANSP:OPAQUE
END:VEVENT
END:VCALENDAR