BEGIN:VCALENDAR
VERSION:2.0
PRODID:-//jEvents 2.0 for Joomla//EN
CALSCALE:GREGORIAN
METHOD:PUBLISH
BEGIN:VTIMEZONE
TZID:Asia/Kuala_Lumpur
BEGIN:STANDARD
DTSTART:20190709T080000
RDATE:20380119T111407
TZOFFSETFROM:+0800
TZOFFSETTO:+0800
TZNAME:Asia/Kuala_Lumpur +08
END:STANDARD
END:VTIMEZONE
BEGIN:VEVENT
UID:f12cd39f09a67b86c710d1aeda8bda6d
CATEGORIES:Oil & Gas
SUMMARY:POGEE 2020
LOCATION:Expo Centre Lahore, Pakistan
DESCRIPTION;ENCODING=QUOTED-PRINTABLE:\n\n\n\n\nThe 18th edition of Pakistan Oil, Gas & Energy Exhibition (POGEE)
 , which will be held from 09 - 11 July 2020 at Expo Centre Lahore, presents
  an ideal ground for the Oil, Gas & Energy stakeholders to meet key decisio
 n makers from national and international Oil & Gas and Power Technology com
 panies, at the same time attain current and relevant information on the tre
 nd, technology and solutions of the industry.\n\n\nIt is also a crucial eve
 nt that continues to highlight Pakistan and its potential in the Oil, Gas a
 nd Energy sector to strengthen the country’s position as a strong oil, gas 
 and energy nation, especially in the Asian region.\n\n\nRealizing the impor
 tance of energy, current government is making all efforts to achieve the lo
 ng-term vision of the power sector to overcome its challenges. The developm
 ent of indigenous energy resources is critical for sustainable economic gro
 wth, as envisaged in the Vision of Pakistan 2025. FDI in Oil & Gas Explorat
 ion data was reported at 12.775 USD MN in Sep 2019, this records an increas
 e from the previous number of 8.107 USD MN for Aug 2019. Whereas Import of 
 Power Gen Machinery is US$ 680.4 MN along with Imports of Electric Machiner
 y and Apparatus is US$ 1315 MN, which is all time high.\n\n\nPOGEE is a mus
 t – attend event for professionals related or interested in Oil, Gas and En
 ergy sector. It serves all areas of the oil, gas & energy industry; includi
 ng Petroleum Geosciences, Exploration & Production And Refining & Petrochem
 ical Products And Services, Biodiesel Generation, Energy Saving & Energy Ef
 ficiency Systems, Energy Management System, Power Generation and Transmissi
 on & Distribution Equipment .\n
X-EXTRAINFO:https://pogeepakistan.com/ 
DTSTAMP:20260421T054753Z
DTSTART;TZID=Asia/Kuala_Lumpur:20200709T080000
DTEND;TZID=Asia/Kuala_Lumpur:20200711T170000
SEQUENCE:0
TRANSP:OPAQUE
END:VEVENT
END:VCALENDAR