BEGIN:VCALENDAR
VERSION:2.0
PRODID:-//jEvents 2.0 for Joomla//EN
CALSCALE:GREGORIAN
METHOD:PUBLISH
BEGIN:VTIMEZONE
TZID:Asia/Kuala_Lumpur
BEGIN:STANDARD
DTSTART:20190609T080000
RDATE:20380119T111407
TZOFFSETFROM:+0800
TZOFFSETTO:+0800
TZNAME:Asia/Kuala_Lumpur +08
END:STANDARD
END:VTIMEZONE
BEGIN:VEVENT
UID:8c7cd47352696b7483255f9b59ee742e
CATEGORIES:Oil & Gas
SUMMARY:Downstream 2020 
LOCATION:Houston, USA
DESCRIPTION;ENCODING=QUOTED-PRINTABLE:
CONTACT:VIRTUAL
X-EXTRAINFO:https://www.petchem-update.com/downstream/ 
DTSTAMP:20260421T071930Z
DTSTART;TZID=Asia/Kuala_Lumpur:20200609T080000
DTEND;TZID=Asia/Kuala_Lumpur:20200611T170000
SEQUENCE:0
TRANSP:OPAQUE
END:VEVENT
END:VCALENDAR