BEGIN:VCALENDAR
VERSION:2.0
PRODID:-//jEvents 2.0 for Joomla//EN
CALSCALE:GREGORIAN
METHOD:PUBLISH
BEGIN:VTIMEZONE
TZID:Asia/Kuala_Lumpur
BEGIN:STANDARD
DTSTART:20190118T080000
RDATE:20380119T111407
TZOFFSETFROM:+0800
TZOFFSETTO:+0800
TZNAME:Asia/Kuala_Lumpur +08
END:STANDARD
END:VTIMEZONE
BEGIN:VEVENT
UID:f5783e62b26c78575acba132771b8eab
CATEGORIES:Oil & Gas
SUMMARY:Intersec 2020
LOCATION:Dubai, UAE
DESCRIPTION;ENCODING=QUOTED-PRINTABLE:
X-EXTRAINFO:https://intersec.ae.messefrankfurt.com/dubai/en.html 
DTSTAMP:20260421T054810Z
DTSTART;TZID=Asia/Kuala_Lumpur:20200119T080000
DTEND;TZID=Asia/Kuala_Lumpur:20200121T170000
SEQUENCE:0
TRANSP:OPAQUE
END:VEVENT
END:VCALENDAR