BEGIN:VCALENDAR
VERSION:2.0
PRODID:-//jEvents 2.0 for Joomla//EN
CALSCALE:GREGORIAN
METHOD:PUBLISH
BEGIN:VTIMEZONE
TZID:Asia/Kuala_Lumpur
BEGIN:STANDARD
DTSTART:20190604T080000
RDATE:20380119T111407
TZOFFSETFROM:+0800
TZOFFSETTO:+0800
TZNAME:Asia/Kuala_Lumpur +08
END:STANDARD
END:VTIMEZONE
BEGIN:VEVENT
UID:8e330db2a866cbb7d0ab54a305831040
CATEGORIES:Oil & Gas
SUMMARY:Offshore China 2020
LOCATION:Shenzhen, China
DESCRIPTION;ENCODING=QUOTED-PRINTABLE:\n\n\n\n\nOffshore China2020 is the world's leading summit for the entire o
 ffshore energy industry and an opportunity for you to connect with experts 
 in global markets. For nineteen years, Offshore China has convened pioneers
  in the energy industry to discuss the development of offshore oil and gas 
 energy. Multiple exhibitors from all over the world displayed their latest 
 services, projects and innovative products. Offshore China has the latest i
 mmersive technology conference, focusing on the future of the industry and 
 technology development. Together shape the future of energy.\n
X-EXTRAINFO:http://www.cdmc.org.cn/2020/oc/
DTSTAMP:20260421T054809Z
DTSTART;TZID=Asia/Kuala_Lumpur:20200604T080000
DTEND;TZID=Asia/Kuala_Lumpur:20200605T170000
SEQUENCE:0
TRANSP:OPAQUE
END:VEVENT
END:VCALENDAR