BEGIN:VCALENDAR
VERSION:2.0
PRODID:-//jEvents 2.0 for Joomla//EN
CALSCALE:GREGORIAN
METHOD:PUBLISH
BEGIN:VTIMEZONE
TZID:Asia/Kuala_Lumpur
BEGIN:STANDARD
DTSTART:20140412T000000
RDATE:20380119T111407
TZOFFSETFROM:+0800
TZOFFSETTO:+0800
TZNAME:Asia/Kuala_Lumpur +08
END:STANDARD
END:VTIMEZONE
BEGIN:VEVENT
UID:23af33a85bd5801659cd279fecc60a4d
CATEGORIES:Oil & Gas
SUMMARY:SOGCE 2015 - 4th Sabah Oil & Gas 2015
LOCATION:Magellan Sutera Harbour, Sabah
DESCRIPTION;ENCODING=QUOTED-PRINTABLE:\n\n Sabah has about 11 trillion cubic feet (tcf) of gas and 1.5 billion ba
 rrels of oil in its reserves, representing about 12% and 25% of Malaysia’s 
 gas and oil reserves. (FACTS Global Energy)\n\n\nLatest discovery of oil of
 fshore of Sabah, initial estimates put the well’s reserves at 227 million b
 arrels of oil equivalent. (Nov 2011 Reuters)\nThe Sabah-Sarawak Pipeline an
 d the Sabah Oil & Gas Terminal are major investments in the region to explo
 it the hydrocarbon reserves in Sabah. (Frost & Sullivan Asia Pacific)\nThe 
 RM4.6bil Sabah Ammonia-Urea (Samur) plant project in Sipitang, will create 
 at least 400 jobs for locals once fully operational (The Star Online)......
 find out more\n
CONTACT:FREE MAP DISTRIBUTION
X-EXTRAINFO:http://www.sabahoilandgas.com.my/
DTSTAMP:20260421T130023Z
DTSTART;TZID=Asia/Kuala_Lumpur;VALUE=DATE:20150413
DTEND;TZID=Asia/Kuala_Lumpur;VALUE=DATE:20150415
SEQUENCE:0
TRANSP:OPAQUE
END:VEVENT
END:VCALENDAR