BEGIN:VCALENDAR
VERSION:2.0
PRODID:-//jEvents 2.0 for Joomla//EN
CALSCALE:GREGORIAN
METHOD:PUBLISH
BEGIN:VTIMEZONE
TZID:Asia/Kuala_Lumpur
BEGIN:STANDARD
DTSTART:20190903T080000
RDATE:20380119T111407
TZOFFSETFROM:+0800
TZOFFSETTO:+0800
TZNAME:Asia/Kuala_Lumpur +08
END:STANDARD
END:VTIMEZONE
BEGIN:VEVENT
UID:c4b09ec0b97d6d61206cb83490757c61
CATEGORIES:Oil & Gas
SUMMARY:DOA 2020
LOCATION:Beijing, China
DESCRIPTION;ENCODING=QUOTED-PRINTABLE:\n\nBuilding strong new industry connections: In 2019 we focused on raising
  awareness of the benefits that digitalization can bring to the oil and gas
  industry and discussing new digital solutions and technologies that can be
  used in the oil and gas industry. The 2020 agenda is more focused on the n
 ext steps in digitalisation. How to ensure digital adoption? How to extend 
 proof-of-concept research? And how to lead the digital transformation of oi
 l and gas companies?\n
X-EXTRAINFO:http://www.cdmc.org.cn/2020/doa/
DTSTAMP:20260421T054809Z
DTSTART;TZID=Asia/Kuala_Lumpur:20200903T080000
DTEND;TZID=Asia/Kuala_Lumpur:20200904T170000
SEQUENCE:0
TRANSP:OPAQUE
END:VEVENT
END:VCALENDAR