BEGIN:VCALENDAR
VERSION:2.0
PRODID:-//jEvents 2.0 for Joomla//EN
CALSCALE:GREGORIAN
METHOD:PUBLISH
BEGIN:VTIMEZONE
TZID:Asia/Kuala_Lumpur
BEGIN:STANDARD
DTSTART:20190708T080000
RDATE:20380119T111407
TZOFFSETFROM:+0800
TZOFFSETTO:+0800
TZNAME:Asia/Kuala_Lumpur +08
END:STANDARD
END:VTIMEZONE
BEGIN:VEVENT
UID:1fbf2abc97eb8141e6d58755ea992e77
CATEGORIES:Oil & Gas
SUMMARY:2nd Oil, Gas, and Power Cambodia 2020
LOCATION:Phnom Penh, Cambodia
DESCRIPTION;ENCODING=QUOTED-PRINTABLE:
X-EXTRAINFO:http://ogpcambodia.com/
DTSTAMP:20260421T100450Z
DTSTART;TZID=Asia/Kuala_Lumpur:20200708T080000
DTEND;TZID=Asia/Kuala_Lumpur:20200710T170000
SEQUENCE:0
TRANSP:OPAQUE
END:VEVENT
END:VCALENDAR