BEGIN:VCALENDAR
VERSION:2.0
PRODID:-//jEvents 2.0 for Joomla//EN
CALSCALE:GREGORIAN
METHOD:PUBLISH
BEGIN:VTIMEZONE
TZID:Asia/Kuala_Lumpur
BEGIN:STANDARD
DTSTART:20191116T080000
RDATE:20380119T111407
TZOFFSETFROM:+0800
TZOFFSETTO:+0800
TZNAME:Asia/Kuala_Lumpur +08
END:STANDARD
END:VTIMEZONE
BEGIN:VEVENT
UID:0d0cdfd8ffed9ec940112e07cae0451b
CATEGORIES:Oil & Gas
SUMMARY:Middle East Petroleum & Gas Conference (MPGC 2020)
LOCATION:Four Seasons Hotel Bahrain Bay, Kingdom of Bahrain
DESCRIPTION;ENCODING=QUOTED-PRINTABLE:\n\nThe 28th Annual Middle East Petroleum & Gas Conference (MPGC 2020) orig
 inally scheduled for 30-31\nMarch 2020 will now be held from November 16 to
  17 2020 in the Kingdom of Bahrain, under the\nPatronage of His Excellency 
 Shaikh Mohamed Bin Khalifa Al-Khalifa, Minister of Oil, Kingdom of Bahrain.
 \nMPGC 2020 is hosted by The Bahrain Petroleum Company (Bapco), National Oi
 l & Gas Authority (NOGA),\nand nogaholding.\nThis announcement follows our 
 earlier communication on the postponement of MPGC 2020, following the\nglob
 al outbreak of COVID-19. Our top priority continues to be the safety and we
 ll-being of all stakeholders\nin the MPGC community from over 50 countries 
 that have given their annual support and commitment to\nthe conference.\n\n
 \nFor further inquiries and clarifications, please contact the MPGC Week 20
 20 Secretariat at Tel: +65 6338\n0064 or Email: This email address is being
  protected from spambots. You need JavaScript enabled to view it.
 //
 \n
X-EXTRAINFO:http://www.mpgc.cc/
DTSTAMP:20260421T055429Z
DTSTART;TZID=Asia/Kuala_Lumpur:20201116T080000
DTEND;TZID=Asia/Kuala_Lumpur:20201117T170000
SEQUENCE:0
TRANSP:OPAQUE
END:VEVENT
END:VCALENDAR