BEGIN:VCALENDAR
VERSION:2.0
PRODID:-//jEvents 2.0 for Joomla//EN
CALSCALE:GREGORIAN
METHOD:PUBLISH
BEGIN:VTIMEZONE
TZID:Asia/Kuala_Lumpur
BEGIN:STANDARD
DTSTART:20190622T080000
RDATE:20380119T111407
TZOFFSETFROM:+0800
TZOFFSETTO:+0800
TZNAME:Asia/Kuala_Lumpur +08
END:STANDARD
END:VTIMEZONE
BEGIN:VEVENT
UID:1538375549d1b540f754128436a17d0c
CATEGORIES:Oil & Gas
SUMMARY:Mastering Energy Storage & Charging Electric Vehicles (EVs)
LOCATION:London
DESCRIPTION;ENCODING=QUOTED-PRINTABLE:\n\nhttps://www.infocusinternational.com/energystorage\n\n\n\nWho Should At
 tend \nThis course is ideal if:\n\n - You are from the investment community
 . Electricity storage presents a fast-growing market opportunity which you 
 are keen to investigate, but you want to gain an independent perspective on
  the competing options, the economic environment in which storage projects 
 operate, and the operational and revenue risks which are important to them.
 \n - You are working within the power sector in a commercial or business de
 velopment role. You need a clearlyexplained, multi-faceted understanding of
  how, where and why electricity storage is disrupting existing markets and 
 business models, so that you can understand new market opportunities and co
 mpetitive risks facing your own business.\n\n \nModule I: Mastering Energy 
 Storage\nCourse Overview\n \n\n A comprehensive understanding of business o
 pportunity, competition & risk in this key growth sector.\n\n\n \nDo you un
 derstand the technology solutions, business considerations and market envir
 onments driving the booming energy storage market? This training course pro
 vides a timely, comprehensive and business-focused summary of the energy st
 orage landscape. It covers the variety of competing storage technologies an
 d describes the variety of problems they can address, at a wide range of de
 ployment sizes and timescales. It also considers alternatives to storage an
 d barriers to its market growth, making it essential for those seeking to e
 valuate risks as well as opportunities. Attendees will leave with a clear u
 nderstanding of why and where storage markets are growing, what could limit
  this growth and what the future trends will be. If you are thinking of inv
 esting in or developing an energy storage business, this course provides yo
 ur essential grounding in the core issues.\n\n\n \nBenefits of Attending\n\
 n - Speak the language of electricity storage: terminology and concepts exp
 lained\n - Language designed for non-engineers; particularly senior, commer
 cial executives & investors\n - Core knowledge building, plus examples from
  around the world\n - Discussion of market analysis variables\n - Quantific
 ation of key issues using simple numerical calculations and Excel-based too
 ls\n - Understand the key variables determining the economics of electricit
 y storage\n - Review current and emerging market opportunities for electric
 ity storage\n - Navigate complex, multi-service contractual relationships\n
  - Be better able to converse with storage project partners, suppliers or i
 nvestors\n - Know what to look for when evaluating electricity storage mark
 et opportunities\n - Be better able to identify key investment and project 
 development risks\n - Understand the key variables determining the economic
 s of electricity storage projects\n - Learn and discuss how financial retur
 ns and risks will arise in the electricity storage market\n - Learn how to 
 analyse and critique electricity storage business models\n\n \nModule II: C
 harging Electric Vehicles - Grid Impacts & Value Chain Opportunities\nCours
 e Overview\n \n Are you ready for the challenges & opportunities of electri
 c vehicle (EV) charging?\n\n\n \nThis is an EV course for those in the elec
 tricity infrastructure and supply business. It introduces you to key power 
 system issues arising from the transition from fossil-fuelled to electric v
 ehicles. What challenges arise from the need to charge grid-connected vehic
 les and what new business opportunities and all-new power system applicatio
 ns and services are created?\n\n\n \nYou’ll leave with a thorough grounding
  in the critical business issues (opportunities and risks) resulting from t
 his disruptive market transition. You’ll be presented with a mix of current
  market data, case studies, contrasting opinions and scenarios.\n\n\n \nTo 
 help you better understand the variables and uncertainties that exist in re
 ality, we’ll illustrate and discuss quantitative calculations; with all cal
 culators and models available to take away and use after the course.\n\n\n 
 \nThe training course is designed for investors, developers and policymaker
 s assess new market opportunities and risks during the integration of growi
 ng fleets of electric vehicles into transitioning electricity systems.\n\n\
 n \nBenefits of Attending\n\n - Clear, independent and business-focused int
 roduction\n - Language designed for non-engineers; particularly senior, com
 mercial executives & investors\n - Core knowledge building, plus examples f
 rom around the world\n - Discussion of market analysis variables & value ch
 ain scenarios\n - Quantification of key issues using simple numerical calcu
 lations and Excel-based tools\n - Review examples and projects in charging 
 infrastructure and charging control from around the world\n - Be better abl
 e to converse with EV and grid project partners, suppliers or investors\n -
  Identify key power system business opportunities which arise from the grow
 th of EVsWe’ll answer these key questions:\n\n - What are the system and lo
 cal capacity barriers to EVs at scale?\n - Which charging solutions (and he
 nce market opportunities) are essential?\n - How will “smart” charging be a
 chieved and what might limit it?\n - What are the key lessons from pilots a
 nd early deployments of managed charging, vehicle-to-grid and more?\n - Wha
 t are the different scenarios and impacts of fast charging networks?\n - Ho
 w might AVs and other emerging technologies alter infrastructure needs?\n -
  Which market players are leading the way in developing EV charging infrast
 ructure and business models?\n - … and many more!\n\n \nCourse Certificate 
           \nUpon the successful completion of this course, you will receive
  a Certificate of Completion, to testify your endeavour and serve towards y
 our professional advancement.\n\n\n \nTo register/enquire, please contact:\
 n\n\n \nWeslyn Lee\nInfocus International Group\nTel: +65 6325 0274 | Email
 : weslyn [at] infocusinternational [dot] com\n\n\nWeb: https://www.infocusi
 nternational.com/energystorage\n
CONTACT:COURSES
X-EXTRAINFO:https://www.infocusinternational.com/energystorage
DTSTAMP:20260421T055530Z
DTSTART;TZID=Asia/Kuala_Lumpur:20200622T080000
DTEND;TZID=Asia/Kuala_Lumpur:20200626T170000
SEQUENCE:0
TRANSP:OPAQUE
END:VEVENT
END:VCALENDAR