BEGIN:VCALENDAR
VERSION:2.0
PRODID:-//jEvents 2.0 for Joomla//EN
CALSCALE:GREGORIAN
METHOD:PUBLISH
BEGIN:VTIMEZONE
TZID:Asia/Kuala_Lumpur
BEGIN:STANDARD
DTSTART:20191123T080000
RDATE:20380119T111407
TZOFFSETFROM:+0800
TZOFFSETTO:+0800
TZNAME:Asia/Kuala_Lumpur +08
END:STANDARD
END:VTIMEZONE
BEGIN:VEVENT
UID:f4174e3a4e3a1bf14b518f4c651be739
CATEGORIES:Oil & Gas
SUMMARY:Gas & LNG Markets, Contracts & Pricing
LOCATION:Singapore
DESCRIPTION;ENCODING=QUOTED-PRINTABLE:\n\nhttps://www.infocusinternational.com/gaslng\nDue to the complex geopoli
 tical nature of gas/ LNG sourcing and long term nature of gas transactions 
 between buyers and sellers, it is commercially prudent for those involved i
 n this process to know the global gas & LNG supply & markets condition, ava
 ilable methodologies for price determination, contract structure and negoti
 ation techniques. Any misjudgement in any of these areas could result in wr
 ong sourcing decisions, significant adverse financial consequences and lega
 l liabilities.\nThis course has, therefore, been designed to enable the pro
 fessionals in the gas sector and gas advisory services to make right sourci
 ng decision, construct gas/LNG contracts and negotiate from a position of s
 trength and knowledge in order to gain a competitive edge in the process.\n
 \n\n \n\n\n \nCourse Highlights\n\n - Global gas/LNG market and market stru
 cture in Asia Pacific, Africa, Middle East, Europe and USA regions\n - Curr
 ent gas/LNG outlook and trends\n - Contract terminology and construction - 
 operational, commercial and legal basis of gas, LNG and Gas Transportation 
 Contracts\n - Principles of gas/LNG Sales and Purchase Agreement (GSPA/SPA)
 , Gas Transportation Agreement (GTA) and Regasification Agreements\n - Gas/
 LNG pricing principles, current practice and price indexation in competitiv
 e gas markets\n - Contracting and negotiation - proven techniques\n\n \nBen
 efits of Attending\n\n - Background knowledge to framework to facilitate ga
 s/LNG commercial decisions\n - Understanding current trends of the gas orga
 nisation structure\n - Knowledge of the underlying rationale for gas contra
 ct terms and conditions\n - Learn to construct gas, LNG and gas transportat
 ion contracts and negotiate them\n - Understanding of techniques of gas/LNG
  price setting in competitive markets\n - Awareness of operation of trading
  hubs, spot and arbitrage\n - Holistic understanding of what is required to
  put a new supply chain in place\n\n \nWho Should Attend \nEnergy professio
 nals including but not limited to:\n\n - Purchasing/Supply Chain\n - Legal/
 Contracts Negotiation\n - Commercial\n - Finance/Pricing\n - Marketing\n - 
 Trading\n - Sales/Business Development\n - Project Finance\n - Corporate Pl
 anningFrom sectors:\n\n - Natural gas E&P\n - Gas/LNG trade, shipping, tran
 smission, distribution\n - Government agencies\n - Gas based power generati
 on\n - Gas/LNG related project finance, asset management, hedge funds, equi
 ty/fixed income\n - Gas pipeline and high pressure transportationCourse Cer
 tificate           \nUpon the successful completion of this course, you wil
 l receive a Certificate of Completion bearing the signatures from both the 
 Course Director and the Course Organiser. This Certificate will testify you
 r endeavour and serve towards your professional advancement.\n\n\n \nTo reg
 ister/enquire, please contact:\n\n\n \nWeslyn Lee\nInfocus International Gr
 oup\nTel: +65 6325 0274 | Email: weslyn [at] infocusinternational [dot] com
 \nWeb: https://www.infocusinternational.com/gaslng\n
CONTACT:COURSES
X-EXTRAINFO:https://www.infocusinternational.com/gaslng
DTSTAMP:20260421T055530Z
DTSTART;TZID=Asia/Kuala_Lumpur:20201123T080000
DTEND;TZID=Asia/Kuala_Lumpur:20201127T170000
SEQUENCE:0
TRANSP:OPAQUE
END:VEVENT
END:VCALENDAR