BEGIN:VCALENDAR
VERSION:2.0
PRODID:-//jEvents 2.0 for Joomla//EN
CALSCALE:GREGORIAN
METHOD:PUBLISH
BEGIN:VTIMEZONE
TZID:Asia/Kuala_Lumpur
BEGIN:STANDARD
DTSTART:20200920T080000
RDATE:20380119T111407
TZOFFSETFROM:+0800
TZOFFSETTO:+0800
TZNAME:Asia/Kuala_Lumpur +08
END:STANDARD
END:VTIMEZONE
BEGIN:VEVENT
UID:27cc7af73c2039f5db8bd285306347dc
CATEGORIES:Energy
SUMMARY:Global Energy Show 2021
LOCATION:Stampede Park - Calgary, Canada
DESCRIPTION;ENCODING=QUOTED-PRINTABLE:
X-EXTRAINFO:https://www.globalpetroleumshow.com/ 
DTSTAMP:20260421T051900Z
DTSTART;TZID=Asia/Kuala_Lumpur:20210921T080000
DTEND;TZID=Asia/Kuala_Lumpur:20210923T170000
SEQUENCE:0
TRANSP:OPAQUE
END:VEVENT
END:VCALENDAR