BEGIN:VCALENDAR
VERSION:2.0
PRODID:-//jEvents 2.0 for Joomla//EN
CALSCALE:GREGORIAN
METHOD:PUBLISH
BEGIN:VTIMEZONE
TZID:Asia/Kuala_Lumpur
BEGIN:STANDARD
DTSTART:20190218T080000
RDATE:20380119T111407
TZOFFSETFROM:+0800
TZOFFSETTO:+0800
TZNAME:Asia/Kuala_Lumpur +08
END:STANDARD
END:VTIMEZONE
BEGIN:VEVENT
UID:d12f5bc753b079d4389f25ccd9148fe0
CATEGORIES:Oil & Gas
SUMMARY:South Asia LPG Conference and Exhibition 2020
LOCATION:Bombay Convention Centre, Hall 5
DESCRIPTION;ENCODING=QUOTED-PRINTABLE:\n\n\n
X-EXTRAINFO:This email address is being protected from spambots. You need JavaScript en
 abled to view it.
 //
 
DTSTAMP:20260421T055530Z
DTSTART;TZID=Asia/Kuala_Lumpur:20200219T080000
DTEND;TZID=Asia/Kuala_Lumpur:20200220T170000
SEQUENCE:0
TRANSP:OPAQUE
END:VEVENT
END:VCALENDAR