BEGIN:VCALENDAR
VERSION:2.0
PRODID:-//jEvents 2.0 for Joomla//EN
CALSCALE:GREGORIAN
METHOD:PUBLISH
BEGIN:VTIMEZONE
TZID:Asia/Kuala_Lumpur
BEGIN:STANDARD
DTSTART:20211018T080000
RDATE:20380119T111407
TZOFFSETFROM:+0800
TZOFFSETTO:+0800
TZNAME:Asia/Kuala_Lumpur +08
END:STANDARD
END:VTIMEZONE
BEGIN:VEVENT
UID:c10109f7c6ae395a279ecee57d54c8fa
CATEGORIES:Maritime 
SUMMARY:INAMARINE 2022
LOCATION:Jakarta, Indonesia
DESCRIPTION;ENCODING=QUOTED-PRINTABLE:\n\n\nThe 9th of maritime exhibition in Indonesia – INAMARINE 2019, which w
 as held successfully, attracted all maritime professional companies in Sout
 h East Asia itself and several countries.\nThe 10th Indonesia International
  Shipbuilding, Offshore, Marine Equipment, Machinery & Services Exhibition 
 2021 will be return on 19 – 21 October 2022 at Jakarta International Expo (
 JIExpo) Kemayoran, Jakarta – Indonesia. It aims to accelerate the growth of
  the maritime industry that is being worked on by the government. It covers
  the shipbuilding industry, ship-owner, offshore, port and terminal facilit
 ies, maritime transport and logistics, safety and security in ports and shi
 pping, and environment protection.\nGaining strong support from the governm
 ent and several key trade associations, INAMARINE firmly establishes itself
  as the leading platform for both global and local to maritime and offshore
  industries.\n
CONTACT:FREE MAP DISTRIBUTION
X-EXTRAINFO:https://www.inamarine-exhibition.net/
DTSTAMP:20260421T034451Z
DTSTART;TZID=Asia/Kuala_Lumpur:20221019T080000
DTEND;TZID=Asia/Kuala_Lumpur:20221021T170000
SEQUENCE:0
TRANSP:OPAQUE
END:VEVENT
END:VCALENDAR