BEGIN:VCALENDAR
VERSION:2.0
PRODID:-//jEvents 2.0 for Joomla//EN
CALSCALE:GREGORIAN
METHOD:PUBLISH
BEGIN:VTIMEZONE
TZID:Asia/Kuala_Lumpur
BEGIN:STANDARD
DTSTART:20191007T080000
RDATE:20380119T111407
TZOFFSETFROM:+0800
TZOFFSETTO:+0800
TZNAME:Asia/Kuala_Lumpur +08
END:STANDARD
END:VTIMEZONE
BEGIN:VEVENT
UID:da9c1b99076cef2c7509a823d896caf2
CATEGORIES:Oil & Gas
SUMMARY:Tank Storage Asia 2020
LOCATION:Marina Bay Sands, Singapore
DESCRIPTION;ENCODING=QUOTED-PRINTABLE:
X-EXTRAINFO:www.tankstorageasia.com
DTSTAMP:20260421T055753Z
DTSTART;TZID=Asia/Kuala_Lumpur:20201007T080000
DTEND;TZID=Asia/Kuala_Lumpur:20201008T170000
SEQUENCE:0
TRANSP:OPAQUE
END:VEVENT
END:VCALENDAR