BEGIN:VCALENDAR
VERSION:2.0
PRODID:-//jEvents 2.0 for Joomla//EN
CALSCALE:GREGORIAN
METHOD:PUBLISH
BEGIN:VTIMEZONE
TZID:Asia/Kuala_Lumpur
BEGIN:STANDARD
DTSTART:20200831T080000
RDATE:20380119T111407
TZOFFSETFROM:+0800
TZOFFSETTO:+0800
TZNAME:Asia/Kuala_Lumpur +08
END:STANDARD
END:VTIMEZONE
BEGIN:VEVENT
UID:3a8c9441be29bec49a3b244c03b34659
CATEGORIES:Oil & Gas
SUMMARY:IPA Convex 2021
LOCATION:Jakarta Convention Center, Indonesia
DESCRIPTION;ENCODING=QUOTED-PRINTABLE:\n\nThe 454th IPA Convention & Exhibition 2021\n
CONTACT:FREE MAP DISTRIBUTION
X-EXTRAINFO:https://convex.ipa.or.id/
DTSTAMP:20260421T051043Z
DTSTART;TZID=Asia/Kuala_Lumpur:20210901T080000
DTEND;TZID=Asia/Kuala_Lumpur:20210903T170000
SEQUENCE:0
TRANSP:OPAQUE
END:VEVENT
END:VCALENDAR