BEGIN:VCALENDAR
VERSION:2.0
PRODID:-//jEvents 2.0 for Joomla//EN
CALSCALE:GREGORIAN
METHOD:PUBLISH
BEGIN:VTIMEZONE
TZID:Asia/Kuala_Lumpur
BEGIN:STANDARD
DTSTART:20200920T080000
RDATE:20380119T111407
TZOFFSETFROM:+0800
TZOFFSETTO:+0800
TZNAME:Asia/Kuala_Lumpur +08
END:STANDARD
END:VTIMEZONE
BEGIN:VEVENT
UID:ce1bcb9518056f3f4b89005d661109e7
CATEGORIES:Oil & Gas
SUMMARY:Gastech 2021
LOCATION:Dubai World Trade Center, UAE
DESCRIPTION;ENCODING=QUOTED-PRINTABLE:\nTaking place from 21-23 September 2021 at the Dubai World Trade Centre, U
 nited Arab Emirates, the global gas, LNG, hydrogen, and energy industry wil
 l meet once again to do business LIVE and IN-PERSON! \nThe event is to be h
 eld under the patronage of His Highness Sheikh Mohammed Bin Rashid Al Makto
 um, Vice President and Prime Minister of the United Arab Emirates and Ruler
  of Dubai. As we look towards the future, navigating the new energy landsca
 pe with our shared global mandate to lower carbon emissions and provide aff
 ordable energy for all, Gastech 2021 will bring together the full energy va
 lue chain, with over 3 days of unrivalled networking in a safe and secure e
 nvironment.\n\n\nGastech is an enabler of conversations, collaborations and
  connections that drive the energy transition agenda. Now, more than ever b
 efore, we need to connect in-person to continue to adapt and respond to the
  collective challenges and opportunities the industry faces. Gastech is the
  global platform with the power to convene world leaders annually in their 
 global mission to provide a carbon neutral, affordable energy future for al
 l by 2050.\n\n\n \n
CONTACT:FREE MAP DISTRIBUTION
X-EXTRAINFO:https://www.gastechevent.com/
DTSTAMP:20260421T050648Z
DTSTART;TZID=Asia/Kuala_Lumpur:20210921T080000
DTEND;TZID=Asia/Kuala_Lumpur:20210923T170000
SEQUENCE:0
TRANSP:OPAQUE
END:VEVENT
END:VCALENDAR