BEGIN:VCALENDAR
VERSION:2.0
PRODID:-//jEvents 2.0 for Joomla//EN
CALSCALE:GREGORIAN
METHOD:PUBLISH
BEGIN:VTIMEZONE
TZID:Asia/Kuala_Lumpur
BEGIN:STANDARD
DTSTART:20200823T100000
RDATE:20380119T111407
TZOFFSETFROM:+0800
TZOFFSETTO:+0800
TZNAME:Asia/Kuala_Lumpur +08
END:STANDARD
END:VTIMEZONE
BEGIN:VEVENT
UID:78bd4a8a9451dded4e4a1fa5804d668f
CATEGORIES:Maritime 
SUMMARY:The 5th edition of Indonesia Marine & Offshore Expo (IMOX) 2021
LOCATION:Radisson Golf and Convention Centre Batam, Indonesia
DESCRIPTION;ENCODING=QUOTED-PRINTABLE:\n\nThe 5th Indonesia Marine & offshore Expo (IMOX) 2021 is an internationa
 l maritime and offshore event that brings an international congregation of 
 companies together in Indonesia's largest shipbuilding industry, Batam. Thi
 s unique event which seeks to bring together more than 4,000 industry proff
 esionals to tackle the pertinent concerns of the booming shipbuilding, mari
 time and offshore industries in Indonesia, from its technological front to 
 the changing market trends. The international character of Indonesia Marine
  & offshore Expo (IMOX) 2020, present unparalleled marketing, education and
  networking opportunities. Indonesia Marine & Offshore Expo (IMOX) 2020, of
 fers you the ideal platform to explore new maritime, offshore, oil, & Gas a
 nd shipbuilding opportunities in Indonesia. "Batam is highly acclaimed as t
 he largest shipbuilding industry in Indonesia and home to more than 100 shi
 pbuilders and shipyard!"\n
X-EXTRAINFO:www.batam-marine.com
DTSTAMP:20260421T050738Z
DTSTART;TZID=Asia/Kuala_Lumpur:20210824T100000
DTEND;TZID=Asia/Kuala_Lumpur:20210826T180000
SEQUENCE:0
TRANSP:OPAQUE
END:VEVENT
END:VCALENDAR