BEGIN:VCALENDAR
VERSION:2.0
PRODID:-//jEvents 2.0 for Joomla//EN
CALSCALE:GREGORIAN
METHOD:PUBLISH
BEGIN:VTIMEZONE
TZID:Asia/Kuala_Lumpur
BEGIN:STANDARD
DTSTART:20191012T080000
RDATE:20380119T111407
TZOFFSETFROM:+0800
TZOFFSETTO:+0800
TZNAME:Asia/Kuala_Lumpur +08
END:STANDARD
END:VTIMEZONE
BEGIN:VEVENT
UID:8c82acb062d3497d24320d4ed9fada89
CATEGORIES:Energy
SUMMARY:Smart Energy Transformation Asia (SETA) 2020
LOCATION:Virtual Exhibition & Conference
DESCRIPTION;ENCODING=QUOTED-PRINTABLE:
CONTACT:Virtual Event
DTSTAMP:20260421T055536Z
DTSTART;TZID=Asia/Kuala_Lumpur:20201012T080000
DTEND;TZID=Asia/Kuala_Lumpur:20201015T170000
SEQUENCE:0
TRANSP:OPAQUE
END:VEVENT
END:VCALENDAR