BEGIN:VCALENDAR
VERSION:2.0
PRODID:-//jEvents 2.0 for Joomla//EN
CALSCALE:GREGORIAN
METHOD:PUBLISH
BEGIN:VTIMEZONE
TZID:Asia/Kuala_Lumpur
BEGIN:STANDARD
DTSTART:20181009T080000
RDATE:20380119T111407
TZOFFSETFROM:+0800
TZOFFSETTO:+0800
TZNAME:Asia/Kuala_Lumpur +08
END:STANDARD
END:VTIMEZONE
BEGIN:VEVENT
UID:0263b1656fcfe9b0bfb02c6e44a79c48
CATEGORIES:Oil & Gas
SUMMARY:Smart Energy Transformation Asia (SETA) 2019
LOCATION:BITEC: Hall 98 – Bangkok International Trade & Exhibition Centre, Bangkok, 
 Thailand
DESCRIPTION;ENCODING=QUOTED-PRINTABLE:\n\nThe 4th edition of Smart Energy Transformation Asia (SETA), formerly kn
 own as Smart Energy Technology Asia, is the leading meeting place for the A
 SEAN energy sector. This year’s edition focuses on latest technologies & so
 lutions in the areas of Sustainable Power Generation, Energy Storage, Digit
 alization and Electric Vehicle Infrastructure.\n\n\nAs well as showcasing e
 xclusive products and services, SETA 2019 offers the attendees a range of c
 omprehensive educational programs. This exhibition and conference provide a
  platform for the energy industry to tap into a rapidly growing market. At 
 this event energy professionals convene to engage in dialogue, create partn
 erships, do business and identify solutions and strategies that will shape 
 the ASEAN energy industry for the years ahead.\n\n\nIn order to further dev
 elop and internationalize the show, the organizer- GAT International has pa
 rtnered up with Deutsche Messe – the organizer of HANNOVER MESSE (world’s l
 eading trade fair for industrial technology, logistic & energy) with headqu
 arters in Germany. Deutsche Messe currently organizes Energy events in Cana
 da, China, Germany, Mexico, Turkey, USA and now in Thailand.\n
CONTACT:FREE MAP DISTRIBUTION -Booth C21
DTSTAMP:20260421T095724Z
DTSTART;TZID=Asia/Kuala_Lumpur:20191010T080000
DTEND;TZID=Asia/Kuala_Lumpur:20191012T170000
SEQUENCE:0
TRANSP:OPAQUE
END:VEVENT
END:VCALENDAR