BEGIN:VCALENDAR
VERSION:2.0
PRODID:-//jEvents 2.0 for Joomla//EN
CALSCALE:GREGORIAN
METHOD:PUBLISH
BEGIN:VTIMEZONE
TZID:Asia/Kuala_Lumpur
BEGIN:STANDARD
DTSTART:20181202T080000
RDATE:20380119T111407
TZOFFSETFROM:+0800
TZOFFSETTO:+0800
TZNAME:Asia/Kuala_Lumpur +08
END:STANDARD
END:VTIMEZONE
BEGIN:VEVENT
UID:d8952d416bb4965d01e58f8decb11b1b
CATEGORIES:Oil & Gas
SUMMARY:The 20th CWC World LNG Summit & Awards Evening 2019
LOCATION:Rome Cavalieri - Rome, Italy
DESCRIPTION;ENCODING=QUOTED-PRINTABLE:\n\nThe CWC World LNG Summit & Awards Evening is recognised as the premier 
 end of year gathering for the global LNG industry. Now in its 20th year, th
 e Summit returns to the vibrant city of Rome, bringing together over 500 LN
 G leaders under one roof to discuss the topics that matter in the LNG indus
 try. With an unrivalled speaker line up representing the who’s who of the g
 lobal LNG industry, don’t miss this opportunity to directly access the key 
 players in your business. Renowned for unparallelled networking events over
  the four days, there will be plenty of time for you to meet existing conta
 cts, make new connections and do deals.\n
DTSTAMP:20260421T100344Z
DTSTART;TZID=Asia/Kuala_Lumpur:20191203T080000
DTEND;TZID=Asia/Kuala_Lumpur:20191206T170000
SEQUENCE:0
TRANSP:OPAQUE
END:VEVENT
END:VCALENDAR