BEGIN:VCALENDAR
VERSION:2.0
PRODID:-//jEvents 2.0 for Joomla//EN
CALSCALE:GREGORIAN
METHOD:PUBLISH
BEGIN:VTIMEZONE
TZID:Asia/Kuala_Lumpur
BEGIN:STANDARD
DTSTART:20181112T080000
RDATE:20380119T111407
TZOFFSETFROM:+0800
TZOFFSETTO:+0800
TZNAME:Asia/Kuala_Lumpur +08
END:STANDARD
END:VTIMEZONE
BEGIN:VEVENT
UID:8f2ad699f8fd085fc7520d08bfe307d8
CATEGORIES:Oil & Gas
SUMMARY:International Conference on Renewable Energy & Emerging Technologies (ICREET) 2019
LOCATION:Jakarta, Indonesia
DESCRIPTION;ENCODING=QUOTED-PRINTABLE:Achieving solutions to environmental problems that we face today requires l
 ong-term potential actions for sustainable development. In this regard, ren
 ewable energy resources appear to be the one of the most efficient and effe
 ctive solution. Under the same mindset, ICREET-19 which is to be held on No
 vember 13th & 14th at Jakarta, focuses on bringing like-minded individuals 
 from across the globe to learn, discuss thoughts, create & share new ideas 
 and to ignite motivation, which would in return help combat and forge succe
 ssful solutions to the pressing challenges of climate change. This platform
  lets researchers, students and academicians to present their new findings,
  build network and gain insights on various fields of renewable energy.\n
X-EXTRAINFO:http://icreet.com/
DTSTAMP:20260421T071814Z
DTSTART;TZID=Asia/Kuala_Lumpur:20191113T080000
DTEND;TZID=Asia/Kuala_Lumpur:20191114T170000
SEQUENCE:0
TRANSP:OPAQUE
END:VEVENT
END:VCALENDAR