BEGIN:VCALENDAR
VERSION:2.0
PRODID:-//jEvents 2.0 for Joomla//EN
CALSCALE:GREGORIAN
METHOD:PUBLISH
BEGIN:VTIMEZONE
TZID:Asia/Kuala_Lumpur
BEGIN:STANDARD
DTSTART:20140325T000000
RDATE:20380119T111407
TZOFFSETFROM:+0800
TZOFFSETTO:+0800
TZNAME:Asia/Kuala_Lumpur +08
END:STANDARD
END:VTIMEZONE
BEGIN:VEVENT
UID:96cd5994df1c2f94b25139c928028acc
CATEGORIES:Oil & Gas
SUMMARY:CIPPE 2015 -The 15th China International Petroleum & Petrochemical Technology and Equipment Exhibition
LOCATION:Beijing, China
DESCRIPTION;ENCODING=QUOTED-PRINTABLE:\n\n China International Petroleum & Petrochemical Technology and Equipment
  Exhibition (cippe), is a regular gathering in petroleum and petrochemical 
 industry. With a magnificent exhibition over 90,000 sqm, cippe Beijing will
  attract 1,800 exhibitors from 65 nations and regions, 16 international pav
 ilions and 65,000 professional visitors. cippe has become the largest petro
 leum exhibition in the world.\ncippe 2014 welcomes an attendance of 15 nati
 onal pavilions, including USA, Germany, UK, French, Canadian, Danish, Itali
 an, Russian etc. In addition, the well-known global enterprises such as GE,
  Baker Hughes, National Oil Varco, 3M, Schneider, Honeywell, API, Caterpill
 ar, Cummins, MTU, Tyco and Hempeletc will all participate in the event.\nMo
 reover, cippe2014 has received great support from the domestic oil giants s
 uch as CNPC Pavilion, Sinopec Oil Engineering Machinery Company, CNOOC, CSS
 C, CSIC, CIMC RAFFLES, RG Petro-machinery (Group) Co., Ltd., HONGHUA, YANTA
 I JEREH, KERUI, JUNMA, Shengli Oilfield Highland Petroleum, SHENKAI, HUABEI
  RONGSHENG, Tianjin LILIN and etc.\nThe 15th China International Petroleum 
 & Petrochemical Technology and Equipment Exhibition (cippeZhenwei Internati
 onal Petroleum Exhibition) will be held on March 26-28, 2015 in New China I
 nternational Exhibition Center. You are cordially welcomed to join us!.....
 .find out more\n
X-EXTRAINFO:http://www.cippe.com.cn/2014/en/
DTSTAMP:20260421T130030Z
DTSTART;TZID=Asia/Kuala_Lumpur;VALUE=DATE:20150326
DTEND;TZID=Asia/Kuala_Lumpur;VALUE=DATE:20150329
SEQUENCE:0
TRANSP:OPAQUE
END:VEVENT
END:VCALENDAR