BEGIN:VCALENDAR
VERSION:2.0
PRODID:-//jEvents 2.0 for Joomla//EN
CALSCALE:GREGORIAN
METHOD:PUBLISH
BEGIN:VTIMEZONE
TZID:Asia/Kuala_Lumpur
BEGIN:STANDARD
DTSTART:20181005T080000
RDATE:20380119T111407
TZOFFSETFROM:+0800
TZOFFSETTO:+0800
TZNAME:Asia/Kuala_Lumpur +08
END:STANDARD
END:VTIMEZONE
BEGIN:VEVENT
UID:c31fcc031b941220eb2f801a88f5efc4
CATEGORIES:Oil & Gas
SUMMARY:Southeast Asia Offshore Summit (SEAOS) 2019
LOCATION:Nay Pyi Taw, Myanmar
DESCRIPTION;ENCODING=QUOTED-PRINTABLE:\n\n\n\n\n \n\n\n \n\n\n \n\n\n \n\n\n \n\n\n \n\n\n \n\n\n \n\n\nthe 4th S
 outheast Asia Offshore Summit, Oct 6-7 in Nay Pyi Taw, Myanmar ?\n\n\nEarly
  bird rate is USD600/Delegate before Aug 15TH. \n\n\nSEAOS 2019, co-organiz
 e with  Myanmar Association of Petroleum Geologists(MAPG). \n\n\nOct 6 is S
 unday, so Minister will 100% attend us.\n\n\n1. Opening speech Minister\n\n
 \n2. Director General Key note.\n\n\n3. MD MOGE keynote\n\n\n4. Director Pl
 anning --speech title: PSC terms & conditions \n\n\n5. Ditector Offshore --
 speech title: Current status of E & P offshore\n\n\n6. Dy.Director ( Law)--
 -speech title: New upstresm Petroleum Law\n
X-EXTRAINFO:http://www.seaoffshore.org/
DTSTAMP:20260421T071748Z
DTSTART;TZID=Asia/Kuala_Lumpur:20191006T080000
DTEND;TZID=Asia/Kuala_Lumpur:20191007T170000
SEQUENCE:0
TRANSP:OPAQUE
END:VEVENT
END:VCALENDAR