BEGIN:VCALENDAR
VERSION:2.0
PRODID:-//jEvents 2.0 for Joomla//EN
CALSCALE:GREGORIAN
METHOD:PUBLISH
BEGIN:VTIMEZONE
TZID:Asia/Kuala_Lumpur
BEGIN:STANDARD
DTSTART:20200101T080000
RDATE:20380119T111407
TZOFFSETFROM:+0800
TZOFFSETTO:+0800
TZNAME:Asia/Kuala_Lumpur +08
END:STANDARD
END:VTIMEZONE
BEGIN:VEVENT
UID:e9c0ae1e42bfc8adac7c51c05b1e6a5a
CATEGORIES:Energy
SUMMARY:POWERGEN India 2020
LOCATION:IECC, PRAGATI MAIDAN, NEW DELHI, INDIA
DESCRIPTION;ENCODING=QUOTED-PRINTABLE:\n\n\n\n\nPOWERGEN India - India's premier forum for the power generation i
 ndustry for over 16 years now, together with Indian Utility Week & DISTRIBU
 TECH India, will be providing one major event covering the entire end-to-en
 d value chain of power generation, distribution and digital transformation 
 on May 5-7, 2020.\n\n\nThis event will be providing business opportunities 
 for solution providers of all forms of power generation from conventional t
 o renewable energy and associated energy storage. This leading forum is whe
 re the power industry can meet, share and discuss solutions for India's ene
 rgy future.\n\n\nAttended by 8000 influential decision-makers including pol
 icymakers, regulators, power producers, utilities, commercial & industrial 
 users, EPC’s, developers, equipment and solution providers.\n\n\nDeliberati
 ng the future of a decarbonising and converging energy industry at POWERGEN
  India.\n\n\nFind out more on POWERGEN India.\n
CONTACT:Virtual Event
X-EXTRAINFO:https://www.powergen-india.com/
DTSTAMP:20260421T081130Z
DTSTART;TZID=Asia/Kuala_Lumpur:20210101T080000
DTEND;TZID=Asia/Kuala_Lumpur:20210131T170000
SEQUENCE:0
TRANSP:OPAQUE
END:VEVENT
END:VCALENDAR