BEGIN:VCALENDAR
VERSION:2.0
PRODID:-//jEvents 2.0 for Joomla//EN
CALSCALE:GREGORIAN
METHOD:PUBLISH
BEGIN:VTIMEZONE
TZID:Asia/Kuala_Lumpur
BEGIN:STANDARD
DTSTART:20180917T080000
RDATE:20380119T111407
TZOFFSETFROM:+0800
TZOFFSETTO:+0800
TZNAME:Asia/Kuala_Lumpur +08
END:STANDARD
END:VTIMEZONE
BEGIN:VEVENT
UID:0fe966abbaf847c1868008825a7cec47
CATEGORIES:Oil & Gas
SUMMARY:Oil & Gas Indonesia (OGI) 2019
LOCATION:Jakarta International Expo, Indonesia
DESCRIPTION;ENCODING=QUOTED-PRINTABLE:\n\n\n\n\nSince the inaugural event in 1995, Oil & Gas Indonesia has provid
 ed an opportunity for those working in the Indonesian oil fields to meet wi
 th local and international suppliers.\n\n\nOil & Gas Indonesia (OGI) is an 
 exhibition focused on Oil and Gas Exploration, Production and Refining and 
 showcases the largest exhibition of petroleum equipment in Indonesia. With 
 visitors representing Independent, International and National Oil and Gas c
 ompanies and a diverse range of products.\n
CONTACT:FREE MAP DISTRIBUTION -Booth 7715 Hall C3
X-EXTRAINFO:https://www.oilgasindonesia.com/
DTSTAMP:20260421T072236Z
DTSTART;TZID=Asia/Kuala_Lumpur:20190918T080000
DTEND;TZID=Asia/Kuala_Lumpur:20190921T170000
SEQUENCE:0
TRANSP:OPAQUE
END:VEVENT
END:VCALENDAR