BEGIN:VCALENDAR
VERSION:2.0
PRODID:-//jEvents 2.0 for Joomla//EN
CALSCALE:GREGORIAN
METHOD:PUBLISH
BEGIN:VTIMEZONE
TZID:Asia/Kuala_Lumpur
BEGIN:STANDARD
DTSTART:20181023T080000
RDATE:20380119T111407
TZOFFSETFROM:+0800
TZOFFSETTO:+0800
TZNAME:Asia/Kuala_Lumpur +08
END:STANDARD
END:VTIMEZONE
BEGIN:VEVENT
UID:5d4b07386465b2ab26b21c93c7af9230
CATEGORIES:Oil & Gas
SUMMARY:Balkans Petroleum Summit 2019
LOCATION:Hotel Maestral Budva, Montenegro
DESCRIPTION;ENCODING=QUOTED-PRINTABLE:\n\n\n
X-EXTRAINFO:https://www.balkans-petroleum.com/
DTSTAMP:20260421T071038Z
DTSTART;TZID=Asia/Kuala_Lumpur:20191024T080000
DTEND;TZID=Asia/Kuala_Lumpur:20191025T170000
SEQUENCE:0
TRANSP:OPAQUE
END:VEVENT
END:VCALENDAR