BEGIN:VCALENDAR
VERSION:2.0
PRODID:-//jEvents 2.0 for Joomla//EN
CALSCALE:GREGORIAN
METHOD:PUBLISH
BEGIN:VTIMEZONE
TZID:Asia/Kuala_Lumpur
BEGIN:STANDARD
DTSTART:20181028T080000
RDATE:20380119T111407
TZOFFSETFROM:+0800
TZOFFSETTO:+0800
TZNAME:Asia/Kuala_Lumpur +08
END:STANDARD
END:VTIMEZONE
BEGIN:VEVENT
UID:6b5b4acd43efc64f398a5ecf9f513691
CATEGORIES:Oil & Gas
SUMMARY:Vietnam Onshore and Offshore Wind Summit (VOOWS) 2019
LOCATION:HCMC, Vietnam
DESCRIPTION;ENCODING=QUOTED-PRINTABLE:\n\n\n\n\n \n\n\n \n\n\n \n\n\n \n\n\n \n\n\n \n\n\nVietnam Onshore and Off
 shore Wind  Summit 2019 (VOOWS 2019)\n\n\nDate, OCT 29-30 \n\n\nVenue: Vinp
 earl Luxury Landmark 81,HCMC, Vietnam \n\n\nEarly bird rate is USD600/Deleg
 ate before Aug 15th.\n\n\nCurrent status of wind based power development in
  Vietnam:\n\n\n1. Mainstream,  notable project is the 800-MW Phu Cuong Soc 
 Trang offshore wind scheme in Vietnam, developed in partnership with the Ph
 u Cuong Group\n\n\n2. Enterprize Energy, 600MW Offshore Wind Farm. \n
X-EXTRAINFO:http://www.vietnamwind.com/
DTSTAMP:20260421T072041Z
DTSTART;TZID=Asia/Kuala_Lumpur:20191029T080000
DTEND;TZID=Asia/Kuala_Lumpur:20191030T170000
SEQUENCE:0
TRANSP:OPAQUE
END:VEVENT
END:VCALENDAR