BEGIN:VCALENDAR
VERSION:2.0
PRODID:-//jEvents 2.0 for Joomla//EN
CALSCALE:GREGORIAN
METHOD:PUBLISH
BEGIN:VTIMEZONE
TZID:Asia/Kuala_Lumpur
BEGIN:STANDARD
DTSTART:20181016T080000
RDATE:20380119T111407
TZOFFSETFROM:+0800
TZOFFSETTO:+0800
TZNAME:Asia/Kuala_Lumpur +08
END:STANDARD
END:VTIMEZONE
BEGIN:VEVENT
UID:8320b00b47e9cba300b0edf58d99a651
CATEGORIES:Oil & Gas
SUMMARY:FPSO & FLNG & FSRU Asia Summit 2019
LOCATION:Shanghai, China
DESCRIPTION;ENCODING=QUOTED-PRINTABLE:\n\nFFA2019 will not only focus on all potential floating production system
  development in China and APAC, but will also keep an eye on global markets
 .  ----Key to Win Tenders in Global Floating Production Industry: Embrace C
 hange and Fuel Innovation.Maximizing the oil and gas field return through F
 EED Design, construction, optimization and cost management.FFA2019 will nev
 er forget why we started and our final destination. We will adhere to our c
 ore value to provide best platform for floating production industry develop
 ment and project matchmaking. We are gaining momentum!http://www.cdmc.org.c
 n/2019/FFA/index.html\n
DTSTAMP:20260421T071733Z
DTSTART;TZID=Asia/Kuala_Lumpur:20191017T080000
DTEND;TZID=Asia/Kuala_Lumpur:20191018T170000
SEQUENCE:0
TRANSP:OPAQUE
END:VEVENT
END:VCALENDAR