BEGIN:VCALENDAR
VERSION:2.0
PRODID:-//jEvents 2.0 for Joomla//EN
CALSCALE:GREGORIAN
METHOD:PUBLISH
BEGIN:VTIMEZONE
TZID:Asia/Kuala_Lumpur
BEGIN:STANDARD
DTSTART:20181113T080000
RDATE:20380119T111407
TZOFFSETFROM:+0800
TZOFFSETTO:+0800
TZNAME:Asia/Kuala_Lumpur +08
END:STANDARD
END:VTIMEZONE
BEGIN:VEVENT
UID:bab87801102353de8a855e83802b73ce
CATEGORIES:Oil & Gas
SUMMARY:Offshore Wind Asia Summit 2019
LOCATION:Shanghai
DESCRIPTION;ENCODING=QUOTED-PRINTABLE:\n\nWe are looking forward to discussing Asia offshore wind power with all 
 of you.The offshore wind industry is forecast to grow from 18GW to 130GW by
  2030 and now is the time to secure your company's future in the growing gl
 obal marketplace. Our two-day event will focus on China mainland, Taiwan, I
 ndia, Korea, Japan and Southeast Asia offshore wind projects, offshore wind
  policy trends, as well as the latest floating technology development. We w
 ill invite 300 decision makers who are the offshore wind developers, invest
 ors, EPCs, OEMs and supply chain companies to exploit new market opportunit
 ies and improve operational efficiency and yield. We are looking forward to
  your attendance in Shanghai!http://www.cdmc.org.cn/2019/OWA/index.html\n
DTSTAMP:20260421T071150Z
DTSTART;TZID=Asia/Kuala_Lumpur:20191114T080000
DTEND;TZID=Asia/Kuala_Lumpur:20191115T170000
SEQUENCE:0
TRANSP:OPAQUE
END:VEVENT
END:VCALENDAR