BEGIN:VCALENDAR
VERSION:2.0
PRODID:-//jEvents 2.0 for Joomla//EN
CALSCALE:GREGORIAN
METHOD:PUBLISH
BEGIN:VTIMEZONE
TZID:Asia/Kuala_Lumpur
BEGIN:STANDARD
DTSTART:20191105T080000
RDATE:20380119T111407
TZOFFSETFROM:+0800
TZOFFSETTO:+0800
TZNAME:Asia/Kuala_Lumpur +08
END:STANDARD
END:VTIMEZONE
BEGIN:VEVENT
UID:f1645497d04001ea78b63ddb58388407
CATEGORIES:Oil & Gas
SUMMARY:15th LNG Supplies for Asian Markets 2020 (LNGA 2020)
LOCATION:Singapore
DESCRIPTION;ENCODING=QUOTED-PRINTABLE:\n\n\nWhere Asia’s LNG Buyers & Sellers Meet\n Conference Connection is ple
 ased to announce the 15th LNG Supplies for Asian Markets 2020 (LNGA 2020) w
 hich will be held in Singapore from 5-6 November 2020 (conference).\n Held 
 annually and now in its 15th year, the Official Opening and Ministerial Add
 ress for the conference will be delivered by Dr. Koh Poh Koon, Senior Minis
 ter of State, Ministry of Trade and Industry, Singapore. The Keynote Addres
 s is currently scheduled on 8 June 2020. Following the success of LNGA 2005
 –2019 which attracted over 3,000 participants from more than 60 countries w
 orldwide covering varied sectors of the Gas/LNG industry, this conference w
 ill provide continuing insights into the challenges and opportunities for t
 he LNG industry over the next decade with an emphasis on the Asian markets,
  which accounts for over 75% of global imports.\n
CONTACT:Virtual Event
X-EXTRAINFO:Conference Connection Pte Ltd\nEmail: This email address is being protected
  from spambots. You need JavaScript enabled to view it.
 //
 \nURL: www.lng
 -conference.com
DTSTAMP:20260421T060152Z
DTSTART;TZID=Asia/Kuala_Lumpur:20201105T080000
DTEND;TZID=Asia/Kuala_Lumpur:20201106T170000
SEQUENCE:0
TRANSP:OPAQUE
END:VEVENT
END:VCALENDAR