BEGIN:VCALENDAR
VERSION:2.0
PRODID:-//jEvents 2.0 for Joomla//EN
CALSCALE:GREGORIAN
METHOD:PUBLISH
BEGIN:VTIMEZONE
TZID:Asia/Kuala_Lumpur
BEGIN:STANDARD
DTSTART:20181209T080000
RDATE:20380119T111407
TZOFFSETFROM:+0800
TZOFFSETTO:+0800
TZNAME:Asia/Kuala_Lumpur +08
END:STANDARD
END:VTIMEZONE
BEGIN:VEVENT
UID:4ee803ba9c2b7442dff39c1a26641dbb
CATEGORIES:Oil & Gas
SUMMARY:The 09th Middle East Artificial Lift Forum (MEALF)
LOCATION:Muscat, Oman
DESCRIPTION;ENCODING=QUOTED-PRINTABLE:\n\nThe 09th Middle East Artificial Lift Forum (MEALF) will be held in Musc
 at - Oman from December 10-12, 2019 under the patronage of H.E. / Eng. Sali
 m Bin Nasser Al Aufi - Undersecretary of Ministry of Oil & Gas, Sultanate o
 f Oman. This Forum is been organized in response to the growing demand expr
 essed within the artificial lift technologies in the Middle East region and
  elsewhere. The main objective of the forum is to promote dialogue and disc
 ussion among new and existing artificial lift users by sharing best practic
 es, experiences,case histories and discussing new technologies. The main Fo
 rum will consist of presentation and forum discussion sessions as well as a
 n exhibition of related technology and services. An optional pre-forum trai
 ning workshop to be hold on the 10th of December 2019.\n
X-EXTRAINFO:http://mealf.net
DTSTAMP:20260421T072327Z
DTSTART;TZID=Asia/Kuala_Lumpur:20191210T080000
DTEND;TZID=Asia/Kuala_Lumpur:20191212T170000
SEQUENCE:0
TRANSP:OPAQUE
END:VEVENT
END:VCALENDAR