BEGIN:VCALENDAR
VERSION:2.0
PRODID:-//jEvents 2.0 for Joomla//EN
CALSCALE:GREGORIAN
METHOD:PUBLISH
BEGIN:VTIMEZONE
TZID:Asia/Kuala_Lumpur
BEGIN:STANDARD
DTSTART:20180909T080000
RDATE:20380119T111407
TZOFFSETFROM:+0800
TZOFFSETTO:+0800
TZNAME:Asia/Kuala_Lumpur +08
END:STANDARD
END:VTIMEZONE
BEGIN:VEVENT
UID:f2eaca7f729e633ff2a2a71591793f52
CATEGORIES:Oil & Gas
SUMMARY:OPEX Oil and Gas Asia Summit 2019
LOCATION:Singapore
DESCRIPTION;ENCODING=QUOTED-PRINTABLE:\n\n\n\n\nAsia’s Only Event Focused on Operational Excellence in Oil & Gas\
 n\n\nThe oil and gas industry is currently facing a crisis that threatens e
 ven the most stable organisations. Currently, a large focus is being placed
  on operational excellence - where key factors include safety, reliability,
  increased output, and cost effectiveness.\n\n\nJoin regional and internati
 onal players across the value chain as they come together in solution-orien
 ted discussions on achieving value-based operational excellence in the oil 
 and gas industry.\n\n\nFor all enquires including ticket and sponsorship, p
 lease contact 
X-EXTRAINFO:This email address is being protected from spambots. You need JavaScript en
 abled to view it.
 //
 
DTSTAMP:20260421T102851Z
DTSTART;TZID=Asia/Kuala_Lumpur:20190910T080000
DTEND;TZID=Asia/Kuala_Lumpur:20190911T170000
SEQUENCE:0
TRANSP:OPAQUE
END:VEVENT
END:VCALENDAR