BEGIN:VCALENDAR
VERSION:2.0
PRODID:-//jEvents 2.0 for Joomla//EN
CALSCALE:GREGORIAN
METHOD:PUBLISH
BEGIN:VTIMEZONE
TZID:Asia/Kuala_Lumpur
BEGIN:STANDARD
DTSTART:20180917T080000
RDATE:20380119T111407
TZOFFSETFROM:+0800
TZOFFSETTO:+0800
TZNAME:Asia/Kuala_Lumpur +08
END:STANDARD
END:VTIMEZONE
BEGIN:VEVENT
UID:61d73f04a1fc3fd64a57222ba138ccc9
CATEGORIES:Oil & Gas
SUMMARY:3rd ANNUAL CANADIAN ARTIFICIAL LIFT 2019 CONFERENCE
LOCATION:Calgary, Alberta
DESCRIPTION;ENCODING=QUOTED-PRINTABLE:\n\n\nThe key focus for this year’s Artificial Lift 2019 conference in Cana
 da will be “Maximum Production at the Lowest Cost”, and the objective will 
 be to bring shale operators and service companies together with leading art
 ificial lift engineers and experts to collaborate and examine new end-user 
 case studies, low-cost and effective artificial lift systems and technical 
 know-how, and to address the real challenges in reaching optimum production
  levels which are essential in the current market.\n
X-EXTRAINFO:This email address is being protected from spambots. You need JavaScript en
 abled to view it.
 //
 
DTSTAMP:20260421T071732Z
DTSTART;TZID=Asia/Kuala_Lumpur:20190918T080000
DTEND;TZID=Asia/Kuala_Lumpur:20190919T170000
SEQUENCE:0
TRANSP:OPAQUE
END:VEVENT
END:VCALENDAR