BEGIN:VCALENDAR
VERSION:2.0
PRODID:-//jEvents 2.0 for Joomla//EN
CALSCALE:GREGORIAN
METHOD:PUBLISH
BEGIN:VTIMEZONE
TZID:Asia/Kuala_Lumpur
BEGIN:STANDARD
DTSTART:20190203T080000
RDATE:20380119T111407
TZOFFSETFROM:+0800
TZOFFSETTO:+0800
TZNAME:Asia/Kuala_Lumpur +08
END:STANDARD
END:VTIMEZONE
BEGIN:VEVENT
UID:aee5462b01cb286ee3c914864466bbd1
CATEGORIES:Oil & Gas
SUMMARY:AMERICAN LNG FORUM 2020
LOCATION:Houston, UAS
DESCRIPTION;ENCODING=QUOTED-PRINTABLE:\n\nThe US is living through the great times of energy renaissance and LNG 
 industry faces numerous exciting opportunities as well as challenges in ord
 er to be able to thrive. Many questions related to building a sustainable L
 NG export industry, LNG pricing and finding top-notch modern technology for
  projects lie ahead. The American LNG Forum is your gateway to tackling the
 se issues, connecting with the right people for business and learning about
  the latest developments, projects and innovations in the LNG sector. Takin
 g place in Houston, the event will not be limited only to the local partici
 pation, the attendees will have the chance to meet people from different pa
 rts of the world, are interested in business opportunities in US LNG sector
 .\n
X-EXTRAINFO:https://americanlngforum.com/
DTSTAMP:20260421T081257Z
DTSTART;TZID=Asia/Kuala_Lumpur:20200204T080000
DTEND;TZID=Asia/Kuala_Lumpur:20200205T170000
SEQUENCE:0
TRANSP:OPAQUE
END:VEVENT
END:VCALENDAR