BEGIN:VCALENDAR
VERSION:2.0
PRODID:-//jEvents 2.0 for Joomla//EN
CALSCALE:GREGORIAN
METHOD:PUBLISH
BEGIN:VTIMEZONE
TZID:Asia/Kuala_Lumpur
BEGIN:STANDARD
DTSTART:20181127T080000
RDATE:20380119T111407
TZOFFSETFROM:+0800
TZOFFSETTO:+0800
TZNAME:Asia/Kuala_Lumpur +08
END:STANDARD
END:VTIMEZONE
BEGIN:VEVENT
UID:ad615f8440dbf7cf0367729f1e252e49
CATEGORIES:Oil & Gas
SUMMARY:IndoChina Oil&Gas Expo And Conference 2019 (ICOG)
LOCATION:Sokha Beach Resort, Sihanoukville Cambodia
DESCRIPTION;ENCODING=QUOTED-PRINTABLE:\n\nIndoChina Oil&Gas Expo And Conference 2019 (ICOG) is the industry event
  for oil and gas professionals in the region. This international event is p
 rojected to bring together in 2019, more than 3000 industry professionals t
 o address the strategic, operational and technology aspects of the oil and 
 gas industry in the Indo-China region. ICOG 2019 offers you\n • The ideal p
 latform to explore new oil and gas business\n opportunities\n • Expand your
  market presence and penetrate emerging\n markets in Indo-China Market\n • 
 Raise the profile of the oil & gas industry within the region\n • Meet pros
 pective of new employees\n • Provide a platform to debate and discuss key i
 ssues\n affecting the oil and gas industry\n
X-EXTRAINFO:http://www.cambodiaoilgas.com/
DTSTAMP:20260421T072409Z
DTSTART;TZID=Asia/Kuala_Lumpur:20191128T080000
DTEND;TZID=Asia/Kuala_Lumpur:20191129T170000
SEQUENCE:0
TRANSP:OPAQUE
END:VEVENT
END:VCALENDAR