BEGIN:VCALENDAR
VERSION:2.0
PRODID:-//jEvents 2.0 for Joomla//EN
CALSCALE:GREGORIAN
METHOD:PUBLISH
BEGIN:VTIMEZONE
TZID:Asia/Kuala_Lumpur
BEGIN:STANDARD
DTSTART:20210912T080000
RDATE:20380119T111407
TZOFFSETFROM:+0800
TZOFFSETTO:+0800
TZNAME:Asia/Kuala_Lumpur +08
END:STANDARD
END:VTIMEZONE
BEGIN:VEVENT
UID:5570a3018f50837e9c5846d7af35726d
CATEGORIES:Oil & Gas
SUMMARY:OGA -MOGSEC 2022
LOCATION:Kuala Lumpur, Malaysia
DESCRIPTION;ENCODING=QUOTED-PRINTABLE:<p class="Default"><strong><span style="font-size: 11pt;">Oil & Gas Asia Me
 rges with Malaysian Oil & Gas Services Exhibition & Conference in September
  2022 </span></strong></p><p class="Default"><span style="font-size: 11pt;"
 >                                                    </span></p><p class="D
 efault"><span style="font-size: 10pt; font-family: 'Open Sans',sans-serif;"
 >The Asian Oil, Gas & Petrochemical Engineering Exhibition, Oil & Gas Asia 
 (OGA), that was to be held from 7 to 9 December 2021, will now be reschedul
 ed and merged with Malaysian Oil & Gas Services Exhibition and Conference (
 MOGSEC) to take place as one tradeshow from <strong>13 to 15 September 2022
  </strong>at Kuala Lumpur Convention Centre. </span></p><p class="Default">
 <span style="font-size: 10pt; font-family: 'Open Sans',sans-serif;">This st
 rategic move bringing the best of both events will see the emergence of a b
 rand-new industry led premier event, hosting not just the largest participa
 tion in the ASEAN region, but also the most inclusive and content filled. <
 /span></p><p class="Default"><span style="font-size: 10pt; font-family: 'Op
 en Sans',sans-serif;">In the coming edition, a conference track helmed by t
 he Malaysian Oil & Gas Services Council (MOGSC) and partners will bring tog
 ether speakers across the full energy value chain, addressing critical issu
 es pertaining the industry, while providing a platform to network in engagi
 ng dialogues. There will also be new dedicated zones targeted for the benef
 it of local OGSE players. </span></p><p class="Default"><span style="font-s
 ize: 10pt; font-family: 'Open Sans',sans-serif;">MOGSEC, a tradeshow focuse
 d exclusively on the prowess of Malaysian Oil & Gas players, serves a cruci
 al role in encouraging greater collaboration within the domestic industry. 
 In its prior edition, MOGSEC recorded a total of more than 7,016 visitors a
 nd 300 participating local companies. The tradeshow is a partnership establ
 ished in 2010 between MOGSC and Malaysian Exhibition Services, now known as
  Informa Markets. </span></p><p><span style="font-size: 10pt; line-height: 
 107%; font-family: 'Open Sans',sans-serif;">Established in 1987, the OGA se
 ries has chalked up more attendees and exhibiting companies than any other 
 Oil & Gas show in the region. OGA 2019 covered a total of 20,000 sqm and fe
 atured 12 international group pavilions and 1,992 companies from 53 countri
 es. It also recorded a total of 27,837 visitors from 70 countries/nations.<
 /span></p><p> </p><p> </p>
CONTACT:FREE MAP DISTRIBUTION
X-EXTRAINFO:https://www.oilandgas-asia.com/
DTSTAMP:20260421T035032Z
DTSTART;TZID=Asia/Kuala_Lumpur:20220913T080000
DTEND;TZID=Asia/Kuala_Lumpur:20220915T170000
SEQUENCE:0
TRANSP:OPAQUE
END:VEVENT
END:VCALENDAR