BEGIN:VCALENDAR
VERSION:2.0
PRODID:-//jEvents 2.0 for Joomla//EN
CALSCALE:GREGORIAN
METHOD:PUBLISH
BEGIN:VTIMEZONE
TZID:Asia/Kuala_Lumpur
BEGIN:STANDARD
DTSTART:20190223T080000
RDATE:20380119T111407
TZOFFSETFROM:+0800
TZOFFSETTO:+0800
TZNAME:Asia/Kuala_Lumpur +08
END:STANDARD
END:VTIMEZONE
BEGIN:VEVENT
UID:74a2a93a3f254a41e54347212a042091
CATEGORIES:Oil & Gas
SUMMARY:The International Gas Union Research Conference (IGRC) 2020
LOCATION:Muscat, Oman
DESCRIPTION;ENCODING=QUOTED-PRINTABLE:The International Gas Union Research Conference (IGRC) will be held in Musc
 at Oman from 24th to 26th February 2020 at the Oman Convention and Exhibiti
 on Center. A key objective of the event is to promote the development of ga
 s technologies and innovations needed to capitalize on the environmental be
 nefits, gas contributions for inclusive growth towards sustainable future. 
 IGRC 2020's theme is “Gas Innovations for a Sustainable Future” reflecting 
 the focus on innovative technologies which further the gas industry. \n \n 
 IGRC is a triennial event attracting senior-level executives and technical 
 gas experts from the global gas industry represented by over 1,000 delegate
 s from more than 40 countries.\nFor more information and registration pleas
 e visit www.igrc2020.com\n
CONTACT:FREE MAP DISTRIBUTION
X-EXTRAINFO:https://www.igrc2020.com/
DTSTAMP:20260421T081345Z
DTSTART;TZID=Asia/Kuala_Lumpur:20200224T080000
DTEND;TZID=Asia/Kuala_Lumpur:20200226T170000
SEQUENCE:0
TRANSP:OPAQUE
END:VEVENT
END:VCALENDAR